BEGIN:VCALENDAR
VERSION:2.0
CALSCALE:GREGORIAN
BEGIN:VTIMEZONE
TZID:Europe/Oslo
BEGIN:DAYLIGHT
TZNAME:CEST
TZOFFSETFROM:+0100
TZOFFSETTO:+0200
DTSTART:19700329T020000
RRULE:FREQ=YEARLY;BYMONTH=3;BYDAY=-1SU
END:DAYLIGHT
BEGIN:STANDARD
TZNAME:CET
TZOFFSETFROM:+0200
TZOFFSETTO:+0100
DTSTART:19701025T030000
RRULE:FREQ=YEARLY;BYMONTH=10;BYDAY=-1SU
END:STANDARD
END:VTIMEZONE
BEGIN:VEVENT
SUMMARY:Carte Blanche: «Unchained Melody» av Mette Ingvartsen
DTSTART;TZID="Europe/Oslo":20260930T190000
DTEND;TZID="Europe/Oslo":20260930T203000
LOCATION:Stavanger Konserthus
DESCRIPTION: Brusende bølger og kjærlighetssanger. I Unchained Melody bruker Mette Ingvartsen kjærlighetssanger fra ulike tidsepoker som et musikalsk anker for koreografien.Bevegelsene følger vannets logikk: krusninger sprer seg mellom danserne, understrømmer trekker dem i nye retninger eller inn i en virvel før roen vender tilbake og overflaten stilner.Danserne synger mens de beveger seg, en fysisk praksis som
STATUS:CONFIRMED
END:VEVENT
END:VCALENDAR