BEGIN:VCALENDAR
VERSION:2.0
CALSCALE:GREGORIAN
BEGIN:VTIMEZONE
TZID:Europe/Oslo
BEGIN:DAYLIGHT
TZNAME:CEST
TZOFFSETFROM:+0100
TZOFFSETTO:+0200
DTSTART:19700329T020000
RRULE:FREQ=YEARLY;BYMONTH=3;BYDAY=-1SU
END:DAYLIGHT
BEGIN:STANDARD
TZNAME:CET
TZOFFSETFROM:+0200
TZOFFSETTO:+0100
DTSTART:19701025T030000
RRULE:FREQ=YEARLY;BYMONTH=10;BYDAY=-1SU
END:STANDARD
END:VTIMEZONE
BEGIN:VEVENT
SUMMARY:Dance Off - Summer vibes
DTSTART;TZID="Europe/Oslo":20260612T073000
DTEND;TZID="Europe/Oslo":20260612T090000
LOCATION:Stavanger Konserthus
DESCRIPTION: Hva med å starte fredagen med dans?Dance Off er høy musikk, bra rytmer og folk i alle aldre som fyller på med god energi før dagen setter i gang. Dette er en rusfri morgendans der alle er velkommen, uansett om du elsker å danse eller bare trenger å riste litt liv i kroppen. Ingen koreografi.
STATUS:CONFIRMED
END:VEVENT
END:VCALENDAR