BEGIN:VCALENDAR
VERSION:2.0
CALSCALE:GREGORIAN
BEGIN:VTIMEZONE
TZID:Europe/Oslo
BEGIN:DAYLIGHT
TZNAME:CEST
TZOFFSETFROM:+0100
TZOFFSETTO:+0200
DTSTART:19700329T020000
RRULE:FREQ=YEARLY;BYMONTH=3;BYDAY=-1SU
END:DAYLIGHT
BEGIN:STANDARD
TZNAME:CET
TZOFFSETFROM:+0200
TZOFFSETTO:+0100
DTSTART:19701025T030000
RRULE:FREQ=YEARLY;BYMONTH=10;BYDAY=-1SU
END:STANDARD
END:VTIMEZONE
BEGIN:VEVENT
SUMMARY:JANOVE
DTSTART;TZID="Europe/Oslo":20261219T210000
DTEND;TZID="Europe/Oslo":20261219T230000
LOCATION:Stavanger Konserthus
DESCRIPTION: Janove på turné med strykekvartett – en ny musikalsk retning høsten 2026! Høsten 2026 gjør Janove noen få eksklusive konserter med strykekvartett. Turneen besøker åtte av landets største konserthus i november og desember hvor han for første gang presenterer sine låter i symfonisk format. I hver by er det med en lokal strykekvartett. Prosjektet springer
STATUS:CONFIRMED
END:VEVENT
END:VCALENDAR