BEGIN:VCALENDAR
VERSION:2.0
CALSCALE:GREGORIAN
BEGIN:VTIMEZONE
TZID:Europe/Oslo
BEGIN:DAYLIGHT
TZNAME:CEST
TZOFFSETFROM:+0100
TZOFFSETTO:+0200
DTSTART:19700329T020000
RRULE:FREQ=YEARLY;BYMONTH=3;BYDAY=-1SU
END:DAYLIGHT
BEGIN:STANDARD
TZNAME:CET
TZOFFSETFROM:+0200
TZOFFSETTO:+0100
DTSTART:19701025T030000
RRULE:FREQ=YEARLY;BYMONTH=10;BYDAY=-1SU
END:STANDARD
END:VTIMEZONE
BEGIN:VEVENT
SUMMARY:Peter Bence
DTSTART;TZID="Europe/Oslo":20270313T190000
DTEND;TZID="Europe/Oslo":20270313T203000
LOCATION:Stavanger Konserthus
DESCRIPTION: Den globale pianosensasjonen Peter Bence er tilbake for å spille under Stavanger Internasjonale Pianofestivals 5-årsjubileum i 2027! Den internasjonalt anerkjente YouTube-sensasjonen Peter Bence gir konsert sammen med Sandnes Symfoniorkester, i Fartein Valen lørdag 13. mars 2027. Peter Bence er et pianofenomen, komponist og musikkprodusent, kjent for å ha Guinness verdensrekord som den «raskeste pianisten». Han
STATUS:CONFIRMED
END:VEVENT
END:VCALENDAR