BEGIN:VCALENDAR
VERSION:2.0
CALSCALE:GREGORIAN
BEGIN:VTIMEZONE
TZID:Europe/Oslo
BEGIN:DAYLIGHT
TZNAME:CEST
TZOFFSETFROM:+0100
TZOFFSETTO:+0200
DTSTART:19700329T020000
RRULE:FREQ=YEARLY;BYMONTH=3;BYDAY=-1SU
END:DAYLIGHT
BEGIN:STANDARD
TZNAME:CET
TZOFFSETFROM:+0200
TZOFFSETTO:+0100
DTSTART:19701025T030000
RRULE:FREQ=YEARLY;BYMONTH=10;BYDAY=-1SU
END:STANDARD
END:VTIMEZONE
BEGIN:VEVENT
SUMMARY:Alice i eventyrland
DTSTART;TZID="Europe/Oslo":20261018T160000
DTEND;TZID="Europe/Oslo":20261018T175000
LOCATION:Stavanger Konserthus
DESCRIPTION: Alice i Eventyrland: Det legendariske sirkusshowet er tilbake! Gjør deg klar for et uforglemmelig familieeventyr – Alice i Eventyrland danse- og sirkusshow presentert av Kultur for Folket! Etter suksessen med 2024-turneen, som ble sett av over 20 000 begeistrede publikummere, lover denne nye versjonen i følge arrangøren enda mer spenning, skjønnhet og ren glede. Med
STATUS:CONFIRMED
END:VEVENT
END:VCALENDAR