BEGIN:VCALENDAR
VERSION:2.0
CALSCALE:GREGORIAN
BEGIN:VTIMEZONE
TZID:Europe/Oslo
BEGIN:DAYLIGHT
TZNAME:CEST
TZOFFSETFROM:+0100
TZOFFSETTO:+0200
DTSTART:19700329T020000
RRULE:FREQ=YEARLY;BYMONTH=3;BYDAY=-1SU
END:DAYLIGHT
BEGIN:STANDARD
TZNAME:CET
TZOFFSETFROM:+0200
TZOFFSETTO:+0100
DTSTART:19701025T030000
RRULE:FREQ=YEARLY;BYMONTH=10;BYDAY=-1SU
END:STANDARD
END:VTIMEZONE
BEGIN:VEVENT
SUMMARY:Stavanger Symfoniorkester: Nyttårskonsertene
DTSTART;TZID="Europe/Oslo":20270107T190000
DTEND;TZID="Europe/Oslo":20270107T210000
LOCATION:Stavanger Konserthus
DESCRIPTION: Tradisjonen tro inviterer Stavanger Symfoniorkester til en feststemt musikalsk feiring når 2027 settes i gang. Sammen med dirigent Christian Blex og mezzosopran Tone Kummervold setter vi tonen for det nye året. Nyttårskonsertene byr på et feststemt møte mellom klassiske favoritter og musikalsk humor. Varighet:Ca. 2 timer, inkl. pause. ARRANGØRStavanger Symfoniorkester
STATUS:CONFIRMED
END:VEVENT
END:VCALENDAR